BEGIN:VCALENDAR
VERSION:2.0
PRODID:-//Bartrenger kameidi - ECPv4.6.8//NONSGML v1.0//EN
CALSCALE:GREGORIAN
METHOD:PUBLISH
X-WR-CALNAME:Bartrenger kameidi
X-ORIGINAL-URL:http://kameidi.lu
X-WR-CALDESC:Events for Bartrenger kameidi
BEGIN:VEVENT
DTSTART;TZID=Europe/London:20180331T103000
DTEND;TZID=Europe/London:20180331T120000
DTSTAMP:20180703T040347
CREATED:20180314T111828Z
LAST-MODIFIED:20180314T111828Z
UID:1533-1522492200-1522497600@kameidi.lu
SUMMARY:OUSCHTEREEËRSICH
DESCRIPTION:
URL:http://kameidi.lu/index.php/event/ouschtereeersich/
ORGANIZER;CN="Bartrenger%20Kam%C3%A9idi":MAILTO:info@kameidi.lu
END:VEVENT
END:VCALENDAR